BEGIN:VCALENDAR
VERSION:2.0
PRODID:-//Sportkarate Walldürn e.V. - ECPv6.15.20//NONSGML v1.0//EN
CALSCALE:GREGORIAN
METHOD:PUBLISH
X-ORIGINAL-URL:https://www.sportkarate-wallduern.de
X-WR-CALDESC:Veranstaltungen für Sportkarate Walldürn e.V.
REFRESH-INTERVAL;VALUE=DURATION:PT1H
X-Robots-Tag:noindex
X-PUBLISHED-TTL:PT1H
BEGIN:VTIMEZONE
TZID:Europe/Paris
BEGIN:DAYLIGHT
TZOFFSETFROM:+0100
TZOFFSETTO:+0200
TZNAME:CEST
DTSTART:20250330T010000
END:DAYLIGHT
BEGIN:STANDARD
TZOFFSETFROM:+0200
TZOFFSETTO:+0100
TZNAME:CET
DTSTART:20251026T010000
END:STANDARD
BEGIN:DAYLIGHT
TZOFFSETFROM:+0100
TZOFFSETTO:+0200
TZNAME:CEST
DTSTART:20260329T010000
END:DAYLIGHT
BEGIN:STANDARD
TZOFFSETFROM:+0200
TZOFFSETTO:+0100
TZNAME:CET
DTSTART:20261025T010000
END:STANDARD
BEGIN:DAYLIGHT
TZOFFSETFROM:+0100
TZOFFSETTO:+0200
TZNAME:CEST
DTSTART:20270328T010000
END:DAYLIGHT
BEGIN:STANDARD
TZOFFSETFROM:+0200
TZOFFSETTO:+0100
TZNAME:CET
DTSTART:20271031T010000
END:STANDARD
END:VTIMEZONE
BEGIN:VEVENT
DTSTART;TZID=Europe/Paris:20260206T000000
DTEND;TZID=Europe/Paris:20260208T000000
DTSTAMP:20260423T102719
CREATED:20251120T094151Z
LAST-MODIFIED:20251120T100559Z
UID:11753-1770336000-1770508800@www.sportkarate-wallduern.de
SUMMARY:Nachwuchs-Europameisterschaften (U16\, U18\, U21)
DESCRIPTION:
URL:https://www.sportkarate-wallduern.de/veranstaltung/nachwuchs-europameisterschaften-u16-u18-u21/
LOCATION:Limassol (Zypern)
CATEGORIES:Sonstiges,Wettkampf
END:VEVENT
BEGIN:VEVENT
DTSTART;TZID=Europe/Paris:20260208T000000
DTEND;TZID=Europe/Paris:20260208T000000
DTSTAMP:20260423T102719
CREATED:20251017T081825Z
LAST-MODIFIED:20251031T162536Z
UID:11620-1770508800-1770508800@www.sportkarate-wallduern.de
SUMMARY:Mitgliederversammlung GKD 2026
DESCRIPTION:
URL:https://www.sportkarate-wallduern.de/veranstaltung/mitgliederversammlung-gkd-2026/
LOCATION:Walldürn\, Nibelungenhalle\, Theodor-Heuss-Ring 21\, Walldürn\, 74731\, Germany
CATEGORIES:Sonstiges
ATTACH;FMTTYPE=image/jpeg:https://www.sportkarate-wallduern.de/wp-content/uploads/Verband/GKD-e1746631606143.jpg
END:VEVENT
BEGIN:VEVENT
DTSTART;VALUE=DATE:20260221
DTEND;VALUE=DATE:20260222
DTSTAMP:20260423T102719
CREATED:20251006T154642Z
LAST-MODIFIED:20251120T091754Z
UID:11585-1771632000-1771718399@www.sportkarate-wallduern.de
SUMMARY:Landesmeisterschaften Leistungsklasse\, Masterklasse\, Para-Karate\, Team-Wettbewerbe
DESCRIPTION:
URL:https://www.sportkarate-wallduern.de/veranstaltung/landesmeisterschaften-leistungsklasse-masterklasse-para-karate-team-wettbewerbe/
LOCATION:Ludwigsburg\, Kleines Feldle 31\, Ludwigsburg\, 71636
CATEGORIES:Sonstiges,Wettkampf
ATTACH;FMTTYPE=image/png:https://www.sportkarate-wallduern.de/wp-content/uploads/Verband/KVBW-e1737390822736.png
END:VEVENT
BEGIN:VEVENT
DTSTART;TZID=Europe/Paris:20260221T130000
DTEND;TZID=Europe/Paris:20260221T170000
DTSTAMP:20260423T102719
CREATED:20251006T100331Z
LAST-MODIFIED:20251006T100331Z
UID:11569-1771678800-1771693200@www.sportkarate-wallduern.de
SUMMARY:Trainerweiterbildung Auffrischung "Erste Hilfe"
DESCRIPTION:
URL:https://www.sportkarate-wallduern.de/veranstaltung/trainerweiterbildung-auffrischung-erste-hilfe/
LOCATION:Yuishinkan Dojo Walldürn\, Theodor-Heuss-Ring 19\, Walldürn\, 74731\, Germany
CATEGORIES:Lehrgang,Sonstiges
ATTACH;FMTTYPE=image/png:https://www.sportkarate-wallduern.de/wp-content/uploads/2025/02/sportkarate-logo-v3-160x160-1-e1754317403858.png
END:VEVENT
END:VCALENDAR