BEGIN:VCALENDAR
VERSION:2.0
PRODID:-//Sportkarate Walldürn e.V. - ECPv6.15.20//NONSGML v1.0//EN
CALSCALE:GREGORIAN
METHOD:PUBLISH
X-ORIGINAL-URL:https://www.sportkarate-wallduern.de
X-WR-CALDESC:Veranstaltungen für Sportkarate Walldürn e.V.
REFRESH-INTERVAL;VALUE=DURATION:PT1H
X-Robots-Tag:noindex
X-PUBLISHED-TTL:PT1H
BEGIN:VTIMEZONE
TZID:Europe/Paris
BEGIN:DAYLIGHT
TZOFFSETFROM:+0100
TZOFFSETTO:+0200
TZNAME:CEST
DTSTART:20240331T010000
END:DAYLIGHT
BEGIN:STANDARD
TZOFFSETFROM:+0200
TZOFFSETTO:+0100
TZNAME:CET
DTSTART:20241027T010000
END:STANDARD
BEGIN:DAYLIGHT
TZOFFSETFROM:+0100
TZOFFSETTO:+0200
TZNAME:CEST
DTSTART:20250330T010000
END:DAYLIGHT
BEGIN:STANDARD
TZOFFSETFROM:+0200
TZOFFSETTO:+0100
TZNAME:CET
DTSTART:20251026T010000
END:STANDARD
BEGIN:DAYLIGHT
TZOFFSETFROM:+0100
TZOFFSETTO:+0200
TZNAME:CEST
DTSTART:20260329T010000
END:DAYLIGHT
BEGIN:STANDARD
TZOFFSETFROM:+0200
TZOFFSETTO:+0100
TZNAME:CET
DTSTART:20261025T010000
END:STANDARD
END:VTIMEZONE
BEGIN:VEVENT
DTSTART;TZID=Europe/Paris:20251005T160000
DTEND;TZID=Europe/Paris:20251005T235900
DTSTAMP:20260423T140607
CREATED:20250119T151109Z
LAST-MODIFIED:20251008T151833Z
UID:9958-1759680000-1759708740@www.sportkarate-wallduern.de
SUMMARY:Jubiläumsbarbecue
DESCRIPTION:
URL:https://www.sportkarate-wallduern.de/veranstaltung/jubilaeumsbarbecue-und-dan-traegertag/
LOCATION:Vereinsheim Eintracht ’93 Walldürn\, Sportgelände Süd\, Walldürn\, 74731\, Germany
CATEGORIES:Freizeit,Lehrgang
ATTACH;FMTTYPE=image/png:https://www.sportkarate-wallduern.de/wp-content/uploads/2025/01/Barbecue.png
END:VEVENT
BEGIN:VEVENT
DTSTART;TZID=Europe/Paris:20251007T174500
DTEND;TZID=Europe/Paris:20251007T184500
DTSTAMP:20260423T140608
CREATED:20250805T143947Z
LAST-MODIFIED:20251008T151849Z
UID:11474-1759859100-1759862700@www.sportkarate-wallduern.de
SUMMARY:PowerFit mit Philipp
DESCRIPTION:
URL:https://www.sportkarate-wallduern.de/veranstaltung/powerfit-mit-philipp/
LOCATION:Yuishinkan Dojo Walldürn\, Theodor-Heuss-Ring 19\, Walldürn\, 74731\, Germany
CATEGORIES:Lehrgang,Training
ATTACH;FMTTYPE=image/png:https://www.sportkarate-wallduern.de/wp-content/uploads/2025/08/2025_10_07Powerfit.png
END:VEVENT
BEGIN:VEVENT
DTSTART;TZID=Europe/Paris:20251009T173000
DTEND;TZID=Europe/Paris:20251009T184500
DTSTAMP:20260423T140608
CREATED:20250913T105711Z
LAST-MODIFIED:20251013T131603Z
UID:11534-1760031000-1760035500@www.sportkarate-wallduern.de
SUMMARY:Karate Einsteigerkurs Erwachsene
DESCRIPTION:
URL:https://www.sportkarate-wallduern.de/veranstaltung/karate-einsteigerkurs-erwachsene/
LOCATION:Yuishinkan Dojo Walldürn\, Theodor-Heuss-Ring 19\, Walldürn\, 74731\, Germany
CATEGORIES:Lehrgang,Training
ATTACH;FMTTYPE=image/png:https://www.sportkarate-wallduern.de/wp-content/uploads/2025/09/2025_10_09Karate-EinsteigerkursErwachsene.png
END:VEVENT
BEGIN:VEVENT
DTSTART;TZID=Europe/Paris:20251010T161500
DTEND;TZID=Europe/Paris:20251010T172500
DTSTAMP:20260423T140608
CREATED:20250804T141907Z
LAST-MODIFIED:20251013T131618Z
UID:11469-1760112900-1760117100@www.sportkarate-wallduern.de
SUMMARY:Karate Einsteigerkurs Kinder
DESCRIPTION:
URL:https://www.sportkarate-wallduern.de/veranstaltung/karate-einsteigerkurs-kinder/
LOCATION:Yuishinkan Dojo Walldürn\, Theodor-Heuss-Ring 19\, Walldürn\, 74731\, Germany
CATEGORIES:Lehrgang,Training
ATTACH;FMTTYPE=image/png:https://www.sportkarate-wallduern.de/wp-content/uploads/2025/08/DIN-A3-Poster.png
END:VEVENT
BEGIN:VEVENT
DTSTART;TZID=Europe/Paris:20251010T173000
DTEND;TZID=Europe/Paris:20251010T184000
DTSTAMP:20260423T140608
CREATED:20250804T142539Z
LAST-MODIFIED:20251013T131632Z
UID:11472-1760117400-1760121600@www.sportkarate-wallduern.de
SUMMARY:Karate Einsteigerkurs Schüler
DESCRIPTION:
URL:https://www.sportkarate-wallduern.de/veranstaltung/karate-einsteigerkurs-schueler/
LOCATION:Yuishinkan Dojo Walldürn\, Theodor-Heuss-Ring 19\, Walldürn\, 74731\, Germany
CATEGORIES:Lehrgang,Training
ATTACH;FMTTYPE=image/png:https://www.sportkarate-wallduern.de/wp-content/uploads/2025/08/DIN-A3-Poster.png
END:VEVENT
BEGIN:VEVENT
DTSTART;VALUE=DATE:20251011
DTEND;VALUE=DATE:20251012
DTSTAMP:20260423T140608
CREATED:20250115T103255Z
LAST-MODIFIED:20251013T131905Z
UID:9800-1760140800-1760227199@www.sportkarate-wallduern.de
SUMMARY:"Regio Cup" Elite #2
DESCRIPTION:
URL:https://www.sportkarate-wallduern.de/veranstaltung/regio-cup-elite-2/
LOCATION:Zunsweier\, Sporthalle\, Offenburg\, Kleingäßle 9\, Offenburg\, 77656\, Germany
CATEGORIES:Wettkampf
ATTACH;FMTTYPE=image/png:https://www.sportkarate-wallduern.de/wp-content/uploads/Verband/KVBW-e1737390822736.png
END:VEVENT
BEGIN:VEVENT
DTSTART;VALUE=DATE:20251025
DTEND;VALUE=DATE:20251026
DTSTAMP:20260423T140608
CREATED:20250115T103529Z
LAST-MODIFIED:20251031T163907Z
UID:9802-1761350400-1761436799@www.sportkarate-wallduern.de
SUMMARY:Landesmeisterschaft U16\, U18\, U21
DESCRIPTION:
URL:https://www.sportkarate-wallduern.de/veranstaltung/landesmeisterschaft-u16-u18-u21/
LOCATION:Achern\, Hornisgrinde-Halle\, Berliner Str. 30\,\, Achern\, 77855\, Germany
CATEGORIES:Sonstiges,Wettkampf
ATTACH;FMTTYPE=image/png:https://www.sportkarate-wallduern.de/wp-content/uploads/Verband/KVBW-e1737390822736.png
END:VEVENT
END:VCALENDAR