BEGIN:VCALENDAR
VERSION:2.0
PRODID:-//Sportkarate Walldürn e.V. - ECPv6.15.20//NONSGML v1.0//EN
CALSCALE:GREGORIAN
METHOD:PUBLISH
X-WR-CALNAME:Sportkarate Walldürn e.V.
X-ORIGINAL-URL:https://www.sportkarate-wallduern.de
X-WR-CALDESC:Veranstaltungen für Sportkarate Walldürn e.V.
REFRESH-INTERVAL;VALUE=DURATION:PT1H
X-Robots-Tag:noindex
X-PUBLISHED-TTL:PT1H
BEGIN:VTIMEZONE
TZID:Europe/Paris
BEGIN:DAYLIGHT
TZOFFSETFROM:+0100
TZOFFSETTO:+0200
TZNAME:CEST
DTSTART:20240331T010000
END:DAYLIGHT
BEGIN:STANDARD
TZOFFSETFROM:+0200
TZOFFSETTO:+0100
TZNAME:CET
DTSTART:20241027T010000
END:STANDARD
BEGIN:DAYLIGHT
TZOFFSETFROM:+0100
TZOFFSETTO:+0200
TZNAME:CEST
DTSTART:20250330T010000
END:DAYLIGHT
BEGIN:STANDARD
TZOFFSETFROM:+0200
TZOFFSETTO:+0100
TZNAME:CET
DTSTART:20251026T010000
END:STANDARD
BEGIN:DAYLIGHT
TZOFFSETFROM:+0100
TZOFFSETTO:+0200
TZNAME:CEST
DTSTART:20260329T010000
END:DAYLIGHT
BEGIN:STANDARD
TZOFFSETFROM:+0200
TZOFFSETTO:+0100
TZNAME:CET
DTSTART:20261025T010000
END:STANDARD
END:VTIMEZONE
BEGIN:VEVENT
DTSTART;VALUE=DATE:20250705
DTEND;VALUE=DATE:20250706
DTSTAMP:20260423T173546
CREATED:20250115T100841Z
LAST-MODIFIED:20250706T082913Z
UID:9777-1751673600-1751759999@www.sportkarate-wallduern.de
SUMMARY:"Regio Cup" Elite #1 sowie Senioren & Para-Karate
DESCRIPTION:
URL:https://www.sportkarate-wallduern.de/veranstaltung/regio-cup-elite-1-sowie-senioren-para-karate/
LOCATION:Heilbronn\, Römersporthalle\, Römerstraße 110\, Heilbronn\, 74078\, Germany
CATEGORIES:Wettkampf
ATTACH;FMTTYPE=image/png:https://www.sportkarate-wallduern.de/wp-content/uploads/Verband/KVBW-e1737390822736.png
END:VEVENT
BEGIN:VEVENT
DTSTART;VALUE=DATE:20250706
DTEND;VALUE=DATE:20250707
DTSTAMP:20260423T173546
CREATED:20250126T153328Z
LAST-MODIFIED:20250706T082927Z
UID:10287-1751760000-1751846399@www.sportkarate-wallduern.de
SUMMARY:Karate Schnuppertag
DESCRIPTION:
URL:https://www.sportkarate-wallduern.de/veranstaltung/karate-schnuppertag/
LOCATION:Yuishinkan Dojo Walldürn\, Theodor-Heuss-Ring 19\, Walldürn\, 74731\, Germany
CATEGORIES:Sonstiges
ATTACH;FMTTYPE=image/jpeg:https://www.sportkarate-wallduern.de/wp-content/uploads/2025/01/2025_07_06Schnuppertag1.jpg
END:VEVENT
BEGIN:VEVENT
DTSTART;VALUE=DATE:20250719
DTEND;VALUE=DATE:20250720
DTSTAMP:20260423T173546
CREATED:20250115T100957Z
LAST-MODIFIED:20251008T151529Z
UID:9779-1752883200-1752969599@www.sportkarate-wallduern.de
SUMMARY:"Regio Cup" Beginner #2
DESCRIPTION:
URL:https://www.sportkarate-wallduern.de/veranstaltung/regio-cup-beginner-2/
LOCATION:Gammertingen\, Alb-Lauchert-Sporthalle\, Josef-Wiest-Straße 3\, Gammertingen\, 72501\, Germany
CATEGORIES:Wettkampf
ATTACH;FMTTYPE=image/png:https://www.sportkarate-wallduern.de/wp-content/uploads/Verband/KVBW-e1737390822736.png
END:VEVENT
BEGIN:VEVENT
DTSTART;TZID=Europe/Paris:20250726T100000
DTEND;TZID=Europe/Paris:20250726T160000
DTSTAMP:20260423T173546
CREATED:20250115T101638Z
LAST-MODIFIED:20251008T151544Z
UID:9783-1753524000-1753545600@www.sportkarate-wallduern.de
SUMMARY:Jubiläumslehrgang "Sportkarate Walldürn feiert"
DESCRIPTION:
URL:https://www.sportkarate-wallduern.de/veranstaltung/sportkarate-wallduern-feiert-2/
LOCATION:Nibelungenhalle\, Theodor-Heuß-Ring\, Walldürn\, 74731\, Germany
CATEGORIES:Lehrgang
ATTACH;FMTTYPE=image/jpeg:https://www.sportkarate-wallduern.de/wp-content/uploads/2025/01/2025_07_26Lehrgang-mit-Horst1-scaled.jpg
END:VEVENT
BEGIN:VEVENT
DTSTART;TZID=Europe/Paris:20250726T183000
DTEND;TZID=Europe/Paris:20250726T183000
DTSTAMP:20260423T173546
CREATED:20250126T152659Z
LAST-MODIFIED:20251008T151600Z
UID:10280-1753554600-1753554600@www.sportkarate-wallduern.de
SUMMARY:Festakt "Sportkarate Walldürn feiert"
DESCRIPTION:
URL:https://www.sportkarate-wallduern.de/veranstaltung/festakt-sportkarate-wallduern-feiert/
LOCATION:Nibelungenhalle\, Theodor-Heuß-Ring\, Walldürn\, 74731\, Germany
CATEGORIES:Sonstiges
ATTACH;FMTTYPE=image/png:https://www.sportkarate-wallduern.de/wp-content/uploads/2025/01/2025_07JubilaeumLogoNeu1-e1737820084771.png
END:VEVENT
BEGIN:VEVENT
DTSTART;TZID=Europe/Paris:20250727T100000
DTEND;TZID=Europe/Paris:20250727T100000
DTSTAMP:20260423T173546
CREATED:20250126T153048Z
LAST-MODIFIED:20251008T151617Z
UID:10285-1753610400-1753610400@www.sportkarate-wallduern.de
SUMMARY:Dan Prüfung
DESCRIPTION:Prüfer/-in \nUlrich Heckhuis 9.Dan\,  \nJudith Niemann 6. Dan\,  \nWolfgang Bundschuh 7. Dan \n 
URL:https://www.sportkarate-wallduern.de/veranstaltung/dan-pruefung/
LOCATION:Yuishinkan Dojo Walldürn\, Theodor-Heuss-Ring 19\, Walldürn\, 74731\, Germany
CATEGORIES:Lehrgang,Sonstiges
ATTACH;FMTTYPE=image/png:https://www.sportkarate-wallduern.de/wp-content/uploads/2025/01/2025_07JubilaeumLogoNeu1-e1737820084771.png
END:VEVENT
BEGIN:VEVENT
DTSTART;TZID=Europe/Paris:20250731T000000
DTEND;TZID=Europe/Paris:20250803T000000
DTSTAMP:20260423T173546
CREATED:20250115T102114Z
LAST-MODIFIED:20251008T151631Z
UID:9788-1753920000-1754179200@www.sportkarate-wallduern.de
SUMMARY:Sommercamp
DESCRIPTION:
URL:https://www.sportkarate-wallduern.de/veranstaltung/sommercamp/
LOCATION:Langenau
CATEGORIES:Freizeit
ATTACH;FMTTYPE=image/png:https://www.sportkarate-wallduern.de/wp-content/uploads/Verband/KVBW-e1737390822736.png
END:VEVENT
END:VCALENDAR