BEGIN:VCALENDAR
VERSION:2.0
PRODID:-//Sportkarate Walldürn e.V. - ECPv6.15.20//NONSGML v1.0//EN
CALSCALE:GREGORIAN
METHOD:PUBLISH
X-WR-CALNAME:Sportkarate Walldürn e.V.
X-ORIGINAL-URL:https://www.sportkarate-wallduern.de
X-WR-CALDESC:Veranstaltungen für Sportkarate Walldürn e.V.
REFRESH-INTERVAL;VALUE=DURATION:PT1H
X-Robots-Tag:noindex
X-PUBLISHED-TTL:PT1H
BEGIN:VTIMEZONE
TZID:Europe/Paris
BEGIN:DAYLIGHT
TZOFFSETFROM:+0100
TZOFFSETTO:+0200
TZNAME:CEST
DTSTART:20240331T010000
END:DAYLIGHT
BEGIN:STANDARD
TZOFFSETFROM:+0200
TZOFFSETTO:+0100
TZNAME:CET
DTSTART:20241027T010000
END:STANDARD
BEGIN:DAYLIGHT
TZOFFSETFROM:+0100
TZOFFSETTO:+0200
TZNAME:CEST
DTSTART:20250330T010000
END:DAYLIGHT
BEGIN:STANDARD
TZOFFSETFROM:+0200
TZOFFSETTO:+0100
TZNAME:CET
DTSTART:20251026T010000
END:STANDARD
BEGIN:DAYLIGHT
TZOFFSETFROM:+0100
TZOFFSETTO:+0200
TZNAME:CEST
DTSTART:20260329T010000
END:DAYLIGHT
BEGIN:STANDARD
TZOFFSETFROM:+0200
TZOFFSETTO:+0100
TZNAME:CET
DTSTART:20261025T010000
END:STANDARD
END:VTIMEZONE
BEGIN:VEVENT
DTSTART;TZID=Europe/Paris:20250507T000000
DTEND;TZID=Europe/Paris:20250511T000000
DTSTAMP:20260423T202614
CREATED:20250115T090014Z
LAST-MODIFIED:20250629T171520Z
UID:9754-1746576000-1746921600@www.sportkarate-wallduern.de
SUMMARY:Europameisterschaften (Leistungsklasse & Para-Karate)
DESCRIPTION:
URL:https://www.sportkarate-wallduern.de/veranstaltung/europameisterschaften-leistungsklasse-para-karate/
LOCATION:Eriwan (Armenien)\, Armenia
CATEGORIES:Wettkampf
END:VEVENT
BEGIN:VEVENT
DTSTART;TZID=Europe/Paris:20250515T163000
DTEND;TZID=Europe/Paris:20250515T163000
DTSTAMP:20260423T202614
CREATED:20250415T152922Z
LAST-MODIFIED:20250629T171535Z
UID:10860-1747326600-1747326600@www.sportkarate-wallduern.de
SUMMARY:Anfängerkurs Schüler & Jugendliche ab 10 J.
DESCRIPTION:
URL:https://www.sportkarate-wallduern.de/veranstaltung/anfaengerkurs-schueler-jugendliche-ab-10-j/
LOCATION:Yuishinkan Dojo Walldürn\, Theodor-Heuss-Ring 19\, Walldürn\, 74731\, Germany
CATEGORIES:Training
ATTACH;FMTTYPE=image/jpeg:https://www.sportkarate-wallduern.de/wp-content/uploads/2025/04/2025_05_15AnfaengerkursSchueler.jpg
END:VEVENT
BEGIN:VEVENT
DTSTART;TZID=Europe/Paris:20250517T090000
DTEND;TZID=Europe/Paris:20250517T180000
DTSTAMP:20260423T202614
CREATED:20250114T142930Z
LAST-MODIFIED:20250629T171548Z
UID:9683-1747472400-1747504800@www.sportkarate-wallduern.de
SUMMARY:Deutsche Meisterschaft Schülerinnen & Schüler
DESCRIPTION:
URL:https://www.sportkarate-wallduern.de/veranstaltung/deutsche-meisterschaft-schuelerinnen-schueler/
LOCATION:Halle / Saale\, Brandberge-Halle / Kreuzvorwerk\, Halle (Saale)\, 06120\, Germany
CATEGORIES:Wettkampf
ATTACH;FMTTYPE=image/jpeg:https://www.sportkarate-wallduern.de/wp-content/uploads/Verband/DKV2-e1737390482247.jpg
END:VEVENT
BEGIN:VEVENT
DTSTART;VALUE=DATE:20250524
DTEND;VALUE=DATE:20250525
DTSTAMP:20260423T202614
CREATED:20250115T091132Z
LAST-MODIFIED:20250629T171601Z
UID:9760-1748044800-1748131199@www.sportkarate-wallduern.de
SUMMARY:"Regio Cup" Beginner #1
DESCRIPTION:
URL:https://www.sportkarate-wallduern.de/veranstaltung/regio-cup-beginner-1/
LOCATION:Ummendorf\, Hermann-Dörlinger-Halle\, Ummendorf\, 88444\, Germany
CATEGORIES:Wettkampf
ATTACH;FMTTYPE=image/png:https://www.sportkarate-wallduern.de/wp-content/uploads/Verband/KVBW-e1737390822736.png
END:VEVENT
BEGIN:VEVENT
DTSTART;TZID=Europe/Paris:20250525T100000
DTEND;TZID=Europe/Paris:20250525T130000
DTSTAMP:20260423T202614
CREATED:20250119T150554Z
LAST-MODIFIED:20250629T171621Z
UID:9956-1748167200-1748178000@www.sportkarate-wallduern.de
SUMMARY:Karatelehrgang
DESCRIPTION:
URL:https://www.sportkarate-wallduern.de/veranstaltung/dan-vorbereitungslehrgang/
LOCATION:Yuishinkan Dojo Walldürn\, Theodor-Heuss-Ring 19\, Walldürn\, 74731\, Germany
CATEGORIES:Lehrgang
ATTACH;FMTTYPE=image/jpeg:https://www.sportkarate-wallduern.de/wp-content/uploads/2025/01/2505_05_25Dan-Anwaerter.jpg
END:VEVENT
BEGIN:VEVENT
DTSTART;TZID=Europe/Paris:20250527T190000
DTEND;TZID=Europe/Paris:20250527T190000
DTSTAMP:20260423T202614
CREATED:20250115T091402Z
LAST-MODIFIED:20250629T171632Z
UID:9762-1748372400-1748372400@www.sportkarate-wallduern.de
SUMMARY:Mitgliederversammlung
DESCRIPTION:
URL:https://www.sportkarate-wallduern.de/veranstaltung/mitgliederversammlung/
LOCATION:Vereinsheim Eintracht ’93 Walldürn\, Sportgelände Süd\, Walldürn\, 74731\, Germany
CATEGORIES:Sonstiges
ATTACH;FMTTYPE=image/png:https://www.sportkarate-wallduern.de/wp-content/uploads/2025/01/2025_07JubilaeumLogoNeu1-e1737820084771.png
END:VEVENT
END:VCALENDAR