BEGIN:VCALENDAR
VERSION:2.0
PRODID:-//Sportkarate Walldürn e.V. - ECPv6.15.20//NONSGML v1.0//EN
CALSCALE:GREGORIAN
METHOD:PUBLISH
X-WR-CALNAME:Sportkarate Walldürn e.V.
X-ORIGINAL-URL:https://www.sportkarate-wallduern.de
X-WR-CALDESC:Veranstaltungen für Sportkarate Walldürn e.V.
REFRESH-INTERVAL;VALUE=DURATION:PT1H
X-Robots-Tag:noindex
X-PUBLISHED-TTL:PT1H
BEGIN:VTIMEZONE
TZID:Europe/Paris
BEGIN:DAYLIGHT
TZOFFSETFROM:+0100
TZOFFSETTO:+0200
TZNAME:CEST
DTSTART:20240331T010000
END:DAYLIGHT
BEGIN:STANDARD
TZOFFSETFROM:+0200
TZOFFSETTO:+0100
TZNAME:CET
DTSTART:20241027T010000
END:STANDARD
BEGIN:DAYLIGHT
TZOFFSETFROM:+0100
TZOFFSETTO:+0200
TZNAME:CEST
DTSTART:20250330T010000
END:DAYLIGHT
BEGIN:STANDARD
TZOFFSETFROM:+0200
TZOFFSETTO:+0100
TZNAME:CET
DTSTART:20251026T010000
END:STANDARD
BEGIN:DAYLIGHT
TZOFFSETFROM:+0100
TZOFFSETTO:+0200
TZNAME:CEST
DTSTART:20260329T010000
END:DAYLIGHT
BEGIN:STANDARD
TZOFFSETFROM:+0200
TZOFFSETTO:+0100
TZNAME:CET
DTSTART:20261025T010000
END:STANDARD
END:VTIMEZONE
BEGIN:VEVENT
DTSTART;TZID=Europe/Paris:20250119T173000
DTEND;TZID=Europe/Paris:20250119T220000
DTSTAMP:20260424T010807
CREATED:20241219T171937Z
LAST-MODIFIED:20250125T155205Z
UID:6677-1737307800-1737324000@www.sportkarate-wallduern.de
SUMMARY:Jahresabschluss
DESCRIPTION:Alle Vereinsmitglieder sind herzlich eingeladen an unserem Jahresabschluss teilzunehmen. Da wir es Ende letzten Jahres nicht mehr geschafft hatten\, einen guten Termin zu finden\, treffen wir uns eben im Januar zu dieser gemütlichen Veranstaltung.
URL:https://www.sportkarate-wallduern.de/veranstaltung/jahresabschluss/
LOCATION:Beuchertsmühle Walldürn\, Miltenberger Straße 35\, Walldürn\, 74731\, Germany
CATEGORIES:Freizeit
ATTACH;FMTTYPE=image/png:https://www.sportkarate-wallduern.de/wp-content/uploads/2025/01/sportkarate-logo-v5b-e1737390675564.png
END:VEVENT
END:VCALENDAR