BEGIN:VCALENDAR
VERSION:2.0
PRODID:-//Sportkarate Walldürn e.V. - ECPv6.15.20//NONSGML v1.0//EN
CALSCALE:GREGORIAN
METHOD:PUBLISH
X-ORIGINAL-URL:https://www.sportkarate-wallduern.de
X-WR-CALDESC:Veranstaltungen für Sportkarate Walldürn e.V.
REFRESH-INTERVAL;VALUE=DURATION:PT1H
X-Robots-Tag:noindex
X-PUBLISHED-TTL:PT1H
BEGIN:VTIMEZONE
TZID:Europe/Paris
BEGIN:DAYLIGHT
TZOFFSETFROM:+0100
TZOFFSETTO:+0200
TZNAME:CEST
DTSTART:20240331T010000
END:DAYLIGHT
BEGIN:STANDARD
TZOFFSETFROM:+0200
TZOFFSETTO:+0100
TZNAME:CET
DTSTART:20241027T010000
END:STANDARD
BEGIN:DAYLIGHT
TZOFFSETFROM:+0100
TZOFFSETTO:+0200
TZNAME:CEST
DTSTART:20250330T010000
END:DAYLIGHT
BEGIN:STANDARD
TZOFFSETFROM:+0200
TZOFFSETTO:+0100
TZNAME:CET
DTSTART:20251026T010000
END:STANDARD
BEGIN:DAYLIGHT
TZOFFSETFROM:+0100
TZOFFSETTO:+0200
TZNAME:CEST
DTSTART:20260329T010000
END:DAYLIGHT
BEGIN:STANDARD
TZOFFSETFROM:+0200
TZOFFSETTO:+0100
TZNAME:CET
DTSTART:20261025T010000
END:STANDARD
END:VTIMEZONE
BEGIN:VEVENT
DTSTART;TZID=Europe/Paris:20251010T161500
DTEND;TZID=Europe/Paris:20251010T172500
DTSTAMP:20260423T152213
CREATED:20250804T141907Z
LAST-MODIFIED:20251013T131618Z
UID:11469-1760112900-1760117100@www.sportkarate-wallduern.de
SUMMARY:Karate Einsteigerkurs Kinder
DESCRIPTION:
URL:https://www.sportkarate-wallduern.de/veranstaltung/karate-einsteigerkurs-kinder/
LOCATION:Yuishinkan Dojo Walldürn\, Theodor-Heuss-Ring 19\, Walldürn\, 74731\, Germany
CATEGORIES:Lehrgang,Training
ATTACH;FMTTYPE=image/png:https://www.sportkarate-wallduern.de/wp-content/uploads/2025/08/DIN-A3-Poster.png
END:VEVENT
BEGIN:VEVENT
DTSTART;TZID=Europe/Paris:20251010T173000
DTEND;TZID=Europe/Paris:20251010T184000
DTSTAMP:20260423T152213
CREATED:20250804T142539Z
LAST-MODIFIED:20251013T131632Z
UID:11472-1760117400-1760121600@www.sportkarate-wallduern.de
SUMMARY:Karate Einsteigerkurs Schüler
DESCRIPTION:
URL:https://www.sportkarate-wallduern.de/veranstaltung/karate-einsteigerkurs-schueler/
LOCATION:Yuishinkan Dojo Walldürn\, Theodor-Heuss-Ring 19\, Walldürn\, 74731\, Germany
CATEGORIES:Lehrgang,Training
ATTACH;FMTTYPE=image/png:https://www.sportkarate-wallduern.de/wp-content/uploads/2025/08/DIN-A3-Poster.png
END:VEVENT
END:VCALENDAR