BEGIN:VCALENDAR
VERSION:2.0
PRODID:-//Sportkarate Walldürn e.V. - ECPv6.15.20//NONSGML v1.0//EN
CALSCALE:GREGORIAN
METHOD:PUBLISH
X-WR-CALNAME:Sportkarate Walldürn e.V.
X-ORIGINAL-URL:https://www.sportkarate-wallduern.de
X-WR-CALDESC:Veranstaltungen für Sportkarate Walldürn e.V.
REFRESH-INTERVAL;VALUE=DURATION:PT1H
X-Robots-Tag:noindex
X-PUBLISHED-TTL:PT1H
BEGIN:VTIMEZONE
TZID:Europe/Paris
BEGIN:DAYLIGHT
TZOFFSETFROM:+0100
TZOFFSETTO:+0200
TZNAME:CEST
DTSTART:20240331T010000
END:DAYLIGHT
BEGIN:STANDARD
TZOFFSETFROM:+0200
TZOFFSETTO:+0100
TZNAME:CET
DTSTART:20241027T010000
END:STANDARD
BEGIN:DAYLIGHT
TZOFFSETFROM:+0100
TZOFFSETTO:+0200
TZNAME:CEST
DTSTART:20250330T010000
END:DAYLIGHT
BEGIN:STANDARD
TZOFFSETFROM:+0200
TZOFFSETTO:+0100
TZNAME:CET
DTSTART:20251026T010000
END:STANDARD
BEGIN:DAYLIGHT
TZOFFSETFROM:+0100
TZOFFSETTO:+0200
TZNAME:CEST
DTSTART:20260329T010000
END:DAYLIGHT
BEGIN:STANDARD
TZOFFSETFROM:+0200
TZOFFSETTO:+0100
TZNAME:CET
DTSTART:20261025T010000
END:STANDARD
END:VTIMEZONE
BEGIN:VEVENT
DTSTART;TZID=Europe/Paris:20250527T190000
DTEND;TZID=Europe/Paris:20250527T190000
DTSTAMP:20260423T203403
CREATED:20250115T091402Z
LAST-MODIFIED:20250629T171632Z
UID:9762-1748372400-1748372400@www.sportkarate-wallduern.de
SUMMARY:Mitgliederversammlung
DESCRIPTION:
URL:https://www.sportkarate-wallduern.de/veranstaltung/mitgliederversammlung/
LOCATION:Vereinsheim Eintracht ’93 Walldürn\, Sportgelände Süd\, Walldürn\, 74731\, Germany
CATEGORIES:Sonstiges
ATTACH;FMTTYPE=image/png:https://www.sportkarate-wallduern.de/wp-content/uploads/2025/01/2025_07JubilaeumLogoNeu1-e1737820084771.png
END:VEVENT
END:VCALENDAR