BEGIN:VCALENDAR
VERSION:2.0
PRODID:-//Sportkarate Walldürn e.V. - ECPv6.15.20//NONSGML v1.0//EN
CALSCALE:GREGORIAN
METHOD:PUBLISH
X-ORIGINAL-URL:https://www.sportkarate-wallduern.de
X-WR-CALDESC:Veranstaltungen für Sportkarate Walldürn e.V.
REFRESH-INTERVAL;VALUE=DURATION:PT1H
X-Robots-Tag:noindex
X-PUBLISHED-TTL:PT1H
BEGIN:VTIMEZONE
TZID:Europe/Paris
BEGIN:DAYLIGHT
TZOFFSETFROM:+0100
TZOFFSETTO:+0200
TZNAME:CEST
DTSTART:20240331T010000
END:DAYLIGHT
BEGIN:STANDARD
TZOFFSETFROM:+0200
TZOFFSETTO:+0100
TZNAME:CET
DTSTART:20241027T010000
END:STANDARD
BEGIN:DAYLIGHT
TZOFFSETFROM:+0100
TZOFFSETTO:+0200
TZNAME:CEST
DTSTART:20250330T010000
END:DAYLIGHT
BEGIN:STANDARD
TZOFFSETFROM:+0200
TZOFFSETTO:+0100
TZNAME:CET
DTSTART:20251026T010000
END:STANDARD
BEGIN:DAYLIGHT
TZOFFSETFROM:+0100
TZOFFSETTO:+0200
TZNAME:CEST
DTSTART:20260329T010000
END:DAYLIGHT
BEGIN:STANDARD
TZOFFSETFROM:+0200
TZOFFSETTO:+0100
TZNAME:CET
DTSTART:20261025T010000
END:STANDARD
END:VTIMEZONE
BEGIN:VEVENT
DTSTART;TZID=Europe/Paris:20250329T080000
DTEND;TZID=Europe/Paris:20250329T200000
DTSTAMP:20260423T235144
CREATED:20250102T182005Z
LAST-MODIFIED:20250417T150321Z
UID:9404-1743235200-1743278400@www.sportkarate-wallduern.de
SUMMARY:Deutsche Meisterschaft Leistungsklasse & Para-Karate
DESCRIPTION:
URL:https://www.sportkarate-wallduern.de/veranstaltung/deutsche-meisterschaft-leistungsklasse-para-karate/
LOCATION:Frankfurt am Main\, Eissporthalle Frankfurt\, Frankfurt am Main\, 60386\, Germany
CATEGORIES:Wettkampf
ATTACH;FMTTYPE=image/jpeg:https://www.sportkarate-wallduern.de/wp-content/uploads/Verband/DKV2-e1737390482247.jpg
END:VEVENT
END:VCALENDAR